BEGIN:VCALENDAR
VERSION:2.0
PRODID:-//club100maratones - ECPv6.15.20//NONSGML v1.0//EN
CALSCALE:GREGORIAN
METHOD:PUBLISH
X-WR-CALNAME:club100maratones
X-ORIGINAL-URL:https://club100maratones.es
X-WR-CALDESC:Eventos para club100maratones
REFRESH-INTERVAL;VALUE=DURATION:PT1H
X-Robots-Tag:noindex
X-PUBLISHED-TTL:PT1H
BEGIN:VTIMEZONE
TZID:UTC
BEGIN:STANDARD
TZOFFSETFROM:+0000
TZOFFSETTO:+0000
TZNAME:UTC
DTSTART:20240101T000000
END:STANDARD
END:VTIMEZONE
BEGIN:VEVENT
DTSTART;VALUE=DATE:20251231
DTEND;VALUE=DATE:20260101
DTSTAMP:20260419T141559
CREATED:20250129T144900Z
LAST-MODIFIED:20250129T144900Z
UID:4017-1767139200-1767225599@club100maratones.es
SUMMARY:NeujahrsMarathon – Zurich (Suiza)
DESCRIPTION:Para más información consulta  la Web \n 
URL:https://club100maratones.es/event/neujahrsmarathon-zurich-suiza
CATEGORIES:internacionales
END:VEVENT
END:VCALENDAR