BEGIN:VCALENDAR
VERSION:2.0
PRODID:-//club100maratones - ECPv6.15.20//NONSGML v1.0//EN
CALSCALE:GREGORIAN
METHOD:PUBLISH
X-WR-CALNAME:club100maratones
X-ORIGINAL-URL:https://club100maratones.es
X-WR-CALDESC:Eventos para club100maratones
REFRESH-INTERVAL;VALUE=DURATION:PT1H
X-Robots-Tag:noindex
X-PUBLISHED-TTL:PT1H
BEGIN:VTIMEZONE
TZID:UTC
BEGIN:STANDARD
TZOFFSETFROM:+0000
TZOFFSETTO:+0000
TZNAME:UTC
DTSTART:20250101T000000
END:STANDARD
END:VTIMEZONE
BEGIN:VEVENT
DTSTART;VALUE=DATE:20260709
DTEND;VALUE=DATE:20260719
DTSTAMP:20260419T190013
CREATED:20250616T103035Z
LAST-MODIFIED:20250616T103035Z
UID:4759-1783555200-1784419199@club100maratones.es
SUMMARY:TEN IN TEN madrid
DESCRIPTION:Para más información consulta el REGLAMENTO GENERAL
URL:https://club100maratones.es/event/ten-in-ten-madrid
CATEGORIES:Proximos maratones
END:VEVENT
END:VCALENDAR